BEGIN:VCALENDAR
VERSION:2.0
PRODID:-//Blue Water Convention Center - ECPv5.14.2.1//NONSGML v1.0//EN
CALSCALE:GREGORIAN
METHOD:PUBLISH
X-WR-CALNAME:Blue Water Convention Center
X-ORIGINAL-URL:https://bluewaterconventioncenter.com
X-WR-CALDESC:Events for Blue Water Convention Center
BEGIN:VTIMEZONE
TZID:UTC
BEGIN:STANDARD
TZOFFSETFROM:+0000
TZOFFSETTO:+0000
TZNAME:UTC
DTSTART:20240101T000000
END:STANDARD
END:VTIMEZONE
BEGIN:VEVENT
DTSTART;VALUE=DATE:20240510
DTEND;VALUE=DATE:20240511
DTSTAMP:20260423T091539
CREATED:20240214T173724Z
LAST-MODIFIED:20240214T173724Z
UID:2499-1715299200-1715385599@bluewaterconventioncenter.com
SUMMARY:State of the County Address
DESCRIPTION:Annual State of the County Address\n​May 10\, 2024
URL:https://bluewaterconventioncenter.com/event/state-of-the-county-address/
LOCATION:Blue Water Convention Center\, 800 Harker St\, Port Huron\, MI\, 48049\, United States
ATTACH;FMTTYPE=image/jpeg:https://bluewaterconventioncenter.com/wp-content/uploads/2022/01/county-loo.jpg
END:VEVENT
END:VCALENDAR