BEGIN:VCALENDAR
VERSION:2.0
PRODID:-//Blue Water Convention Center - ECPv5.14.2.1//NONSGML v1.0//EN
CALSCALE:GREGORIAN
METHOD:PUBLISH
X-WR-CALNAME:Blue Water Convention Center
X-ORIGINAL-URL:https://bluewaterconventioncenter.com
X-WR-CALDESC:Events for Blue Water Convention Center
BEGIN:VTIMEZONE
TZID:UTC
BEGIN:STANDARD
TZOFFSETFROM:+0000
TZOFFSETTO:+0000
TZNAME:UTC
DTSTART:20230101T000000
END:STANDARD
END:VTIMEZONE
BEGIN:VEVENT
DTSTART;VALUE=DATE:20231214
DTEND;VALUE=DATE:20231215
DTSTAMP:20260422T141621
CREATED:20231109T172249Z
LAST-MODIFIED:20231109T172249Z
UID:2403-1702512000-1702598399@bluewaterconventioncenter.com
SUMMARY:SEMCO Energy Gas Company Holiday Party
DESCRIPTION:This is a private event. \nSEMCO ENERGY Gas Company\, headquartered in Port Huron\, Michigan\, is a regulated public utility that delivers natural gas to approximately 300\,000 residential\, commercial\, and industrial customers in service territories in the southern half of the state’s Lower Peninsula (including in and around the cities of Albion\, Battle Creek\, Holland\, Niles\, Port Huron\, and Three Rivers) and in the central\, eastern\, and western parts of the state’s Upper Peninsula. \nSEMCO is regulated by the Michigan Public Service Commission (MPSC). The MPSC regulates the cost of gas and other rates and the terms and conditions of service to our customers. SEMCO’s overall strategy is to provide excellent customer service and to grow our existing businesses. \nSEMCO ENERGY Gas Company is a division of SEMCO Energy\, Inc.\, an indirect wholly-owned subsidiary of AltaGas Ltd.
URL:https://bluewaterconventioncenter.com/event/semco-energy-gas-company-holiday-party/
LOCATION:Blue Water Convention Center\, 800 Harker St\, Port Huron\, MI\, 48049\, United States
ATTACH;FMTTYPE=image/png:https://bluewaterconventioncenter.com/wp-content/uploads/2023/11/SEMCO-ENERGY-CMYK.png
END:VEVENT
END:VCALENDAR