BEGIN:VCALENDAR
VERSION:2.0
PRODID:-//Blue Water Convention Center - ECPv5.14.2.1//NONSGML v1.0//EN
CALSCALE:GREGORIAN
METHOD:PUBLISH
X-WR-CALNAME:Blue Water Convention Center
X-ORIGINAL-URL:https://bluewaterconventioncenter.com
X-WR-CALDESC:Events for Blue Water Convention Center
BEGIN:VTIMEZONE
TZID:UTC
BEGIN:STANDARD
TZOFFSETFROM:+0000
TZOFFSETTO:+0000
TZNAME:UTC
DTSTART:20240101T000000
END:STANDARD
END:VTIMEZONE
BEGIN:VEVENT
DTSTART;TZID=UTC:20240314T120000
DTEND;TZID=UTC:20240314T130000
DTSTAMP:20260422T003344
CREATED:20240214T152759Z
LAST-MODIFIED:20240214T152759Z
UID:2463-1710417600-1710421200@bluewaterconventioncenter.com
SUMMARY:Port Huron Rotary Club
DESCRIPTION:The Rotary Club of Port Huron provides community service through our Foundation\, which provides grants to local non-profit organizations. Additionally\, we do several annual events such as the Rotary International Day Parade every July\, local road clean up\, Flags for Veterans in Lakeside Cemetery every Memorial Day\, Random Acts of Gratitude and Salvation Army bell ringing in December.
URL:https://bluewaterconventioncenter.com/event/port-huron-rotary-club-6/
LOCATION:Blue Water Convention Center\, 800 Harker St\, Port Huron\, MI\, 48049\, United States
ATTACH;FMTTYPE=image/jpeg:https://bluewaterconventioncenter.com/wp-content/uploads/2023/12/ROTARY-PH.jpg
END:VEVENT
END:VCALENDAR