BEGIN:VCALENDAR
VERSION:2.0
PRODID:-//Blue Water Convention Center - ECPv5.14.2.1//NONSGML v1.0//EN
CALSCALE:GREGORIAN
METHOD:PUBLISH
X-WR-CALNAME:Blue Water Convention Center
X-ORIGINAL-URL:https://bluewaterconventioncenter.com
X-WR-CALDESC:Events for Blue Water Convention Center
BEGIN:VTIMEZONE
TZID:UTC
BEGIN:STANDARD
TZOFFSETFROM:+0000
TZOFFSETTO:+0000
TZNAME:UTC
DTSTART:20240101T000000
END:STANDARD
END:VTIMEZONE
BEGIN:VEVENT
DTSTART;VALUE=DATE:20240430
DTEND;VALUE=DATE:20240503
DTSTAMP:20260423T054239
CREATED:20240214T164326Z
LAST-MODIFIED:20240214T164326Z
UID:2496-1714435200-1714694399@bluewaterconventioncenter.com
SUMMARY:Michigan Recycling Coalition
DESCRIPTION:OUR MISSION \nThe Michigan Recycling Coalition fosters sustainability by leading\, educating\, and mobilizing business\, government\, nonprofit\, and individuals to advance their \n\n\n\n\n\n\n\n\n\n\n \n42nd Annual Recycling & Organics Conference\n\n\n\n\n\n\n\n\n\n\n\n \nRecycle Where You Live\n\n\n\n\n\n\n\n\n\n\n\n \nComposting Info\n\n\n\n\n\n\n\n\n\n\n\n\n\nown and collective resource use and recovery initiatives in Michigan.
URL:https://bluewaterconventioncenter.com/event/michigan-recycling-coalition/
LOCATION:Blue Water Convention Center\, 800 Harker St\, Port Huron\, MI\, 48049\, United States
ATTACH;FMTTYPE=image/png:https://bluewaterconventioncenter.com/wp-content/uploads/2024/02/MRClogo1inch.png
END:VEVENT
END:VCALENDAR