BEGIN:VCALENDAR
VERSION:2.0
PRODID:-//Blue Water Convention Center - ECPv5.14.2.1//NONSGML v1.0//EN
CALSCALE:GREGORIAN
METHOD:PUBLISH
X-WR-CALNAME:Blue Water Convention Center
X-ORIGINAL-URL:https://bluewaterconventioncenter.com
X-WR-CALDESC:Events for Blue Water Convention Center
BEGIN:VTIMEZONE
TZID:UTC
BEGIN:STANDARD
TZOFFSETFROM:+0000
TZOFFSETTO:+0000
TZNAME:UTC
DTSTART:20240101T000000
END:STANDARD
END:VTIMEZONE
BEGIN:VEVENT
DTSTART;VALUE=DATE:20240603
DTEND;VALUE=DATE:20240606
DTSTAMP:20260423T163420
CREATED:20240403T134847Z
LAST-MODIFIED:20240403T134847Z
UID:2521-1717372800-1717631999@bluewaterconventioncenter.com
SUMMARY:Michigan Funeral Directors Association Annual Convention & Exposition
DESCRIPTION:Our Mission\nFounded in 1880\, the Michigan Funeral Directors Association is the nation’s oldest organization of funeral professionals. \nRepresentation\nMFDA currently represents roughly 1300 funeral directors serving 650 funeral homes statewide\, representing over three-quarters of all mortuary science licensees in Michigan. All MFDA members agree to adhere to a strict Code of Ethics\, which is enforced by a Committee on Consumer Protection\, Grievance & Ethics. \nMFDA seeks to enhance the value of funeral service and the profession through government advocacy\, public information\, professional education\, and member communication programs. Its sister\, the MFDA Services Corporation offers members employee benefit options\, as well as the state’s premier prepaid funeral financing plans. \nThe Michigan Funeral Directors Association is a private professional association representing approximately 85 percent of all funeral homes in Michigan. The MFDA maintains a strict Code of Ethics\, and consumers would be well advised to inquire whether a particular funeral home with which they intend to do business is a member in good standing of the MFDA. \nThe Michigan Funeral Directors Association is not a State agency. The public agency responsible for the regulation of funeral service is the State Board of Examiners in Mortuary Science\, administered by the: \nDepartment of Licensing & Regulatory Affairs\nP. O. Box 30018\nLansing\, MI 48909
URL:https://bluewaterconventioncenter.com/event/michigan-funeral-directors-association-annual-convention-exposition/
LOCATION:Blue Water Convention Center\, 800 Harker St\, Port Huron\, MI\, 48049\, United States
ATTACH;FMTTYPE=image/png:https://bluewaterconventioncenter.com/wp-content/uploads/2024/04/mfda_logo_new.png
END:VEVENT
END:VCALENDAR