BEGIN:VCALENDAR
VERSION:2.0
PRODID:-//Blue Water Convention Center - ECPv5.14.2.1//NONSGML v1.0//EN
CALSCALE:GREGORIAN
METHOD:PUBLISH
X-WR-CALNAME:Blue Water Convention Center
X-ORIGINAL-URL:https://bluewaterconventioncenter.com
X-WR-CALDESC:Events for Blue Water Convention Center
BEGIN:VTIMEZONE
TZID:UTC
BEGIN:STANDARD
TZOFFSETFROM:+0000
TZOFFSETTO:+0000
TZNAME:UTC
DTSTART:20240101T000000
END:STANDARD
END:VTIMEZONE
BEGIN:VEVENT
DTSTART;VALUE=DATE:20240408
DTEND;VALUE=DATE:20240427
DTSTAMP:20260422T192005
CREATED:20240214T162549Z
LAST-MODIFIED:20240214T162549Z
UID:2488-1712534400-1714175999@bluewaterconventioncenter.com
SUMMARY:MGLVA Testing
DESCRIPTION:This is a private event. \nTesting dates are: \n4/8-4/12 \n4/15-4/19 \n4/22-4/26 \n  \n 
URL:https://bluewaterconventioncenter.com/event/mglva-testing/
LOCATION:Blue Water Convention Center\, 800 Harker St\, Port Huron\, MI\, 48049\, United States
ATTACH;FMTTYPE=image/jpeg:https://bluewaterconventioncenter.com/wp-content/uploads/2024/02/board-361516_640-1.jpg
END:VEVENT
END:VCALENDAR