BEGIN:VCALENDAR
VERSION:2.0
PRODID:-//Blue Water Convention Center - ECPv5.14.2.1//NONSGML v1.0//EN
CALSCALE:GREGORIAN
METHOD:PUBLISH
X-WR-CALNAME:Blue Water Convention Center
X-ORIGINAL-URL:https://bluewaterconventioncenter.com
X-WR-CALDESC:Events for Blue Water Convention Center
BEGIN:VTIMEZONE
TZID:UTC
BEGIN:STANDARD
TZOFFSETFROM:+0000
TZOFFSETTO:+0000
TZNAME:UTC
DTSTART:20240101T000000
END:STANDARD
END:VTIMEZONE
BEGIN:VEVENT
DTSTART;VALUE=DATE:20240301
DTEND;VALUE=DATE:20240302
DTSTAMP:20260421T172056
CREATED:20240214T135200Z
LAST-MODIFIED:20240214T135200Z
UID:2435-1709251200-1709337599@bluewaterconventioncenter.com
SUMMARY:Little Black Dress
DESCRIPTION:This event is sold out.
URL:https://bluewaterconventioncenter.com/event/little-black-dress-2/
LOCATION:Blue Water Convention Center\, 800 Harker St\, Port Huron\, MI\, 48049\, United States
ATTACH;FMTTYPE=image/png:https://bluewaterconventioncenter.com/wp-content/uploads/2024/02/Little-Black-Dress-Logo-2023.png
END:VEVENT
END:VCALENDAR