BEGIN:VCALENDAR
VERSION:2.0
PRODID:-//Blue Water Convention Center - ECPv5.14.2.1//NONSGML v1.0//EN
CALSCALE:GREGORIAN
METHOD:PUBLISH
X-WR-CALNAME:Blue Water Convention Center
X-ORIGINAL-URL:https://bluewaterconventioncenter.com
X-WR-CALDESC:Events for Blue Water Convention Center
BEGIN:VTIMEZONE
TZID:UTC
BEGIN:STANDARD
TZOFFSETFROM:+0000
TZOFFSETTO:+0000
TZNAME:UTC
DTSTART:20240101T000000
END:STANDARD
END:VTIMEZONE
BEGIN:VEVENT
DTSTART;VALUE=DATE:20240405
DTEND;VALUE=DATE:20240406
DTSTAMP:20260422T141917
CREATED:20240214T154141Z
LAST-MODIFIED:20240214T154141Z
UID:2476-1712275200-1712361599@bluewaterconventioncenter.com
SUMMARY:Lions of Michigan District 11-D2
DESCRIPTION:Lions International District 11D2 encompasses Huron\, Lapeer\, Sanilac\, and Saint Clair Counties. Our District membership is proud to live by the organization’s motto: You can Help! “We Serve\,” and strive to meet Lions International vision “to be the global leader in community and humanitarian service”.
URL:https://bluewaterconventioncenter.com/event/lions-of-michigan-district-11-d2/
LOCATION:Blue Water Convention Center\, 800 Harker St\, Port Huron\, MI\, 48049\, United States
ATTACH;FMTTYPE=image/jpeg:https://bluewaterconventioncenter.com/wp-content/uploads/2024/02/download.jpg
END:VEVENT
END:VCALENDAR