BEGIN:VCALENDAR
VERSION:2.0
PRODID:-//Blue Water Convention Center - ECPv5.14.2.1//NONSGML v1.0//EN
CALSCALE:GREGORIAN
METHOD:PUBLISH
X-WR-CALNAME:Blue Water Convention Center
X-ORIGINAL-URL:https://bluewaterconventioncenter.com
X-WR-CALDESC:Events for Blue Water Convention Center
BEGIN:VTIMEZONE
TZID:UTC
BEGIN:STANDARD
TZOFFSETFROM:+0000
TZOFFSETTO:+0000
TZNAME:UTC
DTSTART:20260101T000000
END:STANDARD
END:VTIMEZONE
BEGIN:VEVENT
DTSTART;VALUE=DATE:20260318
DTEND;VALUE=DATE:20260320
DTSTAMP:20260421T180507
CREATED:20260106T133116Z
LAST-MODIFIED:20260106T133116Z
UID:3091-1773792000-1773964799@bluewaterconventioncenter.com
SUMMARY:GLVM Conference
DESCRIPTION:The Arboriculture Society of Michigan Foundation (ASMF) is proud to host the third annual Great Lakes Vegetation Management Conference\, scheduled to take place on March 18th and 19th in Port Huron\, Michigan. Conference check-in opens at 8:00 a.m. and the sessions will run from 9:00 a.m. to 4:00 p.m. on Wednesday\, March 18th and 8:00 a.m. to (approximately) 2:00 p.m. on Wednesday March 19th. \nThis event brings together professionals\, experts and enthusiasts in the fields of arboriculture and vegetation management from across the Great Lakes region and the nation.
URL:https://bluewaterconventioncenter.com/event/glvm-conference/
LOCATION:Blue Water Convention Center\, 800 Harker St\, Port Huron\, MI\, 48049\, United States
ATTACH;FMTTYPE=image/webp:https://bluewaterconventioncenter.com/wp-content/uploads/2026/01/tree.webp
END:VEVENT
END:VCALENDAR