BEGIN:VCALENDAR
VERSION:2.0
PRODID:-//Blue Water Convention Center - ECPv5.14.2.1//NONSGML v1.0//EN
CALSCALE:GREGORIAN
METHOD:PUBLISH
X-WR-CALNAME:Blue Water Convention Center
X-ORIGINAL-URL:https://bluewaterconventioncenter.com
X-WR-CALDESC:Events for Blue Water Convention Center
BEGIN:VTIMEZONE
TZID:UTC
BEGIN:STANDARD
TZOFFSETFROM:+0000
TZOFFSETTO:+0000
TZNAME:UTC
DTSTART:20240101T000000
END:STANDARD
END:VTIMEZONE
BEGIN:VEVENT
DTSTART;TZID=UTC:20240516T180000
DTEND;TZID=UTC:20240516T203000
DTSTAMP:20260423T132938
CREATED:20240214T174224Z
LAST-MODIFIED:20240214T174224Z
UID:2501-1715882400-1715891400@bluewaterconventioncenter.com
SUMMARY:Community Foundation of St.Clair County 80th Anniversary Celebration
DESCRIPTION:Please join us for a memorable evening to celebrate 80 years of giving back! There will be an interactive mosaic activity\, live music\, a strolling dinner and best of all\, we will be honoring Donna Niester and Chuck Kelly with Lifetime Achievement Awards. \nThursday\, May 16\, 2024\n6:00 PM to 8:30 PM \nBlue Water Convention Center\n800 Harker Street\, Port Huron \n$75 per person\nCocktail Attire – Valet Service \nEvening Program\n6:00 PM – Check-in \n6:00 PM – 6:45 PM – Social hour \n6:45 PM – 7:45 PM – Strolling dinner and entertainment \n7:45 PM – 8:30 PM – Program
URL:https://bluewaterconventioncenter.com/event/community-foundation-of-st-clair-county-80th-anniversary-celebration/
LOCATION:Blue Water Convention Center\, 800 Harker St\, Port Huron\, MI\, 48049\, United States
ATTACH;FMTTYPE=image/png:https://bluewaterconventioncenter.com/wp-content/uploads/2024/02/CFlogo-1.png
END:VEVENT
END:VCALENDAR