BEGIN:VCALENDAR
VERSION:2.0
PRODID:-//Blue Water Convention Center - ECPv5.14.2.1//NONSGML v1.0//EN
CALSCALE:GREGORIAN
METHOD:PUBLISH
X-WR-CALNAME:Blue Water Convention Center
X-ORIGINAL-URL:https://bluewaterconventioncenter.com
X-WR-CALDESC:Events for Blue Water Convention Center
BEGIN:VTIMEZONE
TZID:UTC
BEGIN:STANDARD
TZOFFSETFROM:+0000
TZOFFSETTO:+0000
TZNAME:UTC
DTSTART:20230101T000000
END:STANDARD
END:VTIMEZONE
BEGIN:VEVENT
DTSTART;VALUE=DATE:20231118
DTEND;VALUE=DATE:20231119
DTSTAMP:20260423T000139
CREATED:20231109T165937Z
LAST-MODIFIED:20231115T173731Z
UID:2385-1700265600-1700351999@bluewaterconventioncenter.com
SUMMARY:Blue Water International Comic-Con
DESCRIPTION:Saturday\, November 18\, 2023\n11:00 am – 6:00 pm\n\nBlue Water Convention Center\n800 Harker St.\nPort Huron\, MI 48060\nContact & More Info\nhttps://fantasticon.net/bluewater-comic-con-november-18-show-info/\nContact: Fantasticon\nPhone: (586) 493-4344\n\nAdmission $6.50 in advance & $10 the day of the show. Kids 5 & under are FREE
URL:https://bluewaterconventioncenter.com/event/comic-con/
LOCATION:Blue Water Convention Center\, 800 Harker St\, Port Huron\, MI\, 48049\, United States
ATTACH;FMTTYPE=image/webp:https://bluewaterconventioncenter.com/wp-content/uploads/2023/11/3df842d96697cffaa8442e4041c7d59ecbd5b71238e221b827f3c658c4bd5462-rimg-w960-h742-gmir.webp
END:VEVENT
END:VCALENDAR