BEGIN:VCALENDAR
VERSION:2.0
PRODID:-//Blue Water Convention Center - ECPv5.14.2.1//NONSGML v1.0//EN
CALSCALE:GREGORIAN
METHOD:PUBLISH
X-WR-CALNAME:Blue Water Convention Center
X-ORIGINAL-URL:http://bluewaterconventioncenter.com
X-WR-CALDESC:Events for Blue Water Convention Center
BEGIN:VTIMEZONE
TZID:UTC
BEGIN:STANDARD
TZOFFSETFROM:+0000
TZOFFSETTO:+0000
TZNAME:UTC
DTSTART:20250101T000000
END:STANDARD
END:VTIMEZONE
BEGIN:VEVENT
DTSTART;VALUE=DATE:20250405
DTEND;VALUE=DATE:20250406
DTSTAMP:20260419T153349
CREATED:20250205T182701Z
LAST-MODIFIED:20250205T182701Z
UID:2705-1743811200-1743897599@bluewaterconventioncenter.com
SUMMARY:Wedding Reception
DESCRIPTION:This is a private event. \n 
URL:http://bluewaterconventioncenter.com/event/wedding-reception-5/
LOCATION:Blue Water Convention Center\, 800 Harker St\, Port Huron\, MI\, 48049\, United States
ATTACH;FMTTYPE=image/webp:http://bluewaterconventioncenter.com/wp-content/uploads/2025/02/wedding-logo.webp
END:VEVENT
END:VCALENDAR