BEGIN:VCALENDAR
VERSION:2.0
PRODID:-//Blue Water Convention Center - ECPv5.14.2.1//NONSGML v1.0//EN
CALSCALE:GREGORIAN
METHOD:PUBLISH
X-WR-CALNAME:Blue Water Convention Center
X-ORIGINAL-URL:http://bluewaterconventioncenter.com
X-WR-CALDESC:Events for Blue Water Convention Center
BEGIN:VTIMEZONE
TZID:UTC
BEGIN:STANDARD
TZOFFSETFROM:+0000
TZOFFSETTO:+0000
TZNAME:UTC
DTSTART:20240101T000000
END:STANDARD
END:VTIMEZONE
BEGIN:VEVENT
DTSTART;VALUE=DATE:20240711
DTEND;VALUE=DATE:20240715
DTSTAMP:20260423T182352
CREATED:20240520T153649Z
LAST-MODIFIED:20240520T153649Z
UID:2542-1720656000-1721001599@bluewaterconventioncenter.com
SUMMARY:The Creative Falloween Crafting Event
DESCRIPTION:This is a private event.
URL:http://bluewaterconventioncenter.com/event/the-creative-falloween-crafting-event/
LOCATION:Blue Water Convention Center\, 800 Harker St\, Port Huron\, MI\, 48049\, United States
ATTACH;FMTTYPE=image/jpeg:http://bluewaterconventioncenter.com/wp-content/uploads/2024/05/Faloween.jpg
END:VEVENT
END:VCALENDAR