BEGIN:VCALENDAR
VERSION:2.0
PRODID:-//Blue Water Convention Center - ECPv5.14.2.1//NONSGML v1.0//EN
CALSCALE:GREGORIAN
METHOD:PUBLISH
X-WR-CALNAME:Blue Water Convention Center
X-ORIGINAL-URL:http://bluewaterconventioncenter.com
X-WR-CALDESC:Events for Blue Water Convention Center
BEGIN:VTIMEZONE
TZID:UTC
BEGIN:STANDARD
TZOFFSETFROM:+0000
TZOFFSETTO:+0000
TZNAME:UTC
DTSTART:20240101T000000
END:STANDARD
END:VTIMEZONE
BEGIN:VEVENT
DTSTART;VALUE=DATE:20240927
DTEND;VALUE=DATE:20240930
DTSTAMP:20260419T164110
CREATED:20240726T111827Z
LAST-MODIFIED:20240726T111827Z
UID:2580-1727395200-1727654399@bluewaterconventioncenter.com
SUMMARY:Sweet Adelines
DESCRIPTION:With input from our members\, we developed our Mission and Vision Statements and Guiding Principles to communicate the purpose\, values\, and hopes of Sweet Adelines International. They will serve as a compass to guide all efforts toward creating a strong and sustainable future for Sweet Adelines International. \nMission Statement\nElevating women singers worldwide through education\, performance\, and competition in barbershop harmony and a cappella music. \nVision Statement\nInspiring and empowering voices to joyfully harmonize the world. \nGuiding Principles\nMusical Excellence: We honor and embrace artistry\, education and innovation in the performance of women’s a cappella music while championing the barbershop style. \nCulture of Belonging: We create harmony where every voice matters.  We foster a culture that provides a joyful place to share our uniqueness within a global community united in song. \nDiversity & Inclusion: We celebrate our differences as essential to the rich harmony that unites us.  As we recognize barbershop’s African American origins and learn from our exclusionary past toward women of color\, we reject discrimination and unwaveringly strive toward greater awareness\, openness and understanding of each other. \nPersonal Empowerment & Leadership: We encourage and empower everyone to lead from where they stand. We foster individual skills\, nurture personal growth\, and provide education and mentoring to develop strong\, effective leaders on and off the stage. \nOutreach: We build strong connections by sharing our love of barbershop harmony throughout our communities\, countries and the world.
URL:http://bluewaterconventioncenter.com/event/sweet-adelines/
LOCATION:Blue Water Convention Center\, 800 Harker St\, Port Huron\, MI\, 48049\, United States
ATTACH;FMTTYPE=image/png:http://bluewaterconventioncenter.com/wp-content/uploads/2024/07/sweet-adalines.png
END:VEVENT
END:VCALENDAR