BEGIN:VCALENDAR
VERSION:2.0
PRODID:-//Blue Water Convention Center - ECPv5.14.2.1//NONSGML v1.0//EN
CALSCALE:GREGORIAN
METHOD:PUBLISH
X-WR-CALNAME:Blue Water Convention Center
X-ORIGINAL-URL:http://bluewaterconventioncenter.com
X-WR-CALDESC:Events for Blue Water Convention Center
BEGIN:VTIMEZONE
TZID:UTC
BEGIN:STANDARD
TZOFFSETFROM:+0000
TZOFFSETTO:+0000
TZNAME:UTC
DTSTART:20240101T000000
END:STANDARD
END:VTIMEZONE
BEGIN:VEVENT
DTSTART;VALUE=DATE:20240823
DTEND;VALUE=DATE:20240826
DTSTAMP:20260421T095626
CREATED:20240820T161619Z
LAST-MODIFIED:20240820T161619Z
UID:2621-1724371200-1724630399@bluewaterconventioncenter.com
SUMMARY:Spa Show
DESCRIPTION:Open to the public! FREE ADMISSION! \n 
URL:http://bluewaterconventioncenter.com/event/spa-show/
LOCATION:Blue Water Convention Center\, 800 Harker St\, Port Huron\, MI\, 48049\, United States
ATTACH;FMTTYPE=image/jpeg:http://bluewaterconventioncenter.com/wp-content/uploads/2024/08/Logo-HTSSBlowout-1000.jpg
END:VEVENT
END:VCALENDAR