BEGIN:VCALENDAR
VERSION:2.0
PRODID:-//Blue Water Convention Center - ECPv5.14.2.1//NONSGML v1.0//EN
CALSCALE:GREGORIAN
METHOD:PUBLISH
X-WR-CALNAME:Blue Water Convention Center
X-ORIGINAL-URL:http://bluewaterconventioncenter.com
X-WR-CALDESC:Events for Blue Water Convention Center
BEGIN:VTIMEZONE
TZID:UTC
BEGIN:STANDARD
TZOFFSETFROM:+0000
TZOFFSETTO:+0000
TZNAME:UTC
DTSTART:20240101T000000
END:STANDARD
END:VTIMEZONE
BEGIN:VEVENT
DTSTART;VALUE=DATE:20240809
DTEND;VALUE=DATE:20240810
DTSTAMP:20260423T104626
CREATED:20240726T104023Z
LAST-MODIFIED:20240726T104023Z
UID:2566-1723161600-1723247999@bluewaterconventioncenter.com
SUMMARY:Retirement Party
DESCRIPTION:This is a private event.
URL:http://bluewaterconventioncenter.com/event/retirement-party/
LOCATION:Blue Water Convention Center\, 800 Harker St\, Port Huron\, MI\, 48049\, United States
ATTACH;FMTTYPE=image/jpeg:http://bluewaterconventioncenter.com/wp-content/uploads/2024/07/retirement.jpg
END:VEVENT
END:VCALENDAR