BEGIN:VCALENDAR
VERSION:2.0
PRODID:-//Blue Water Convention Center - ECPv5.14.2.1//NONSGML v1.0//EN
CALSCALE:GREGORIAN
METHOD:PUBLISH
X-WR-CALNAME:Blue Water Convention Center
X-ORIGINAL-URL:http://bluewaterconventioncenter.com
X-WR-CALDESC:Events for Blue Water Convention Center
BEGIN:VTIMEZONE
TZID:UTC
BEGIN:STANDARD
TZOFFSETFROM:+0000
TZOFFSETTO:+0000
TZNAME:UTC
DTSTART:20240101T000000
END:STANDARD
END:VTIMEZONE
BEGIN:VEVENT
DTSTART;TZID=UTC:20240720T170000
DTEND;TZID=UTC:20240720T230000
DTSTAMP:20260423T165321
CREATED:20240520T153843Z
LAST-MODIFIED:20240520T153843Z
UID:2545-1721494800-1721516400@bluewaterconventioncenter.com
SUMMARY:Port Huron Northern Class of 1979 Reunion
DESCRIPTION:This is a private event. \n 
URL:http://bluewaterconventioncenter.com/event/port-huron-northern-class-of-1979-reunion/
LOCATION:Blue Water Convention Center\, 800 Harker St\, Port Huron\, MI\, 48049\, United States
ATTACH;FMTTYPE=image/png:http://bluewaterconventioncenter.com/wp-content/uploads/2024/05/PHN-reunion.png
END:VEVENT
END:VCALENDAR