BEGIN:VCALENDAR
VERSION:2.0
PRODID:-//Blue Water Convention Center - ECPv5.14.2.1//NONSGML v1.0//EN
CALSCALE:GREGORIAN
METHOD:PUBLISH
X-WR-CALNAME:Blue Water Convention Center
X-ORIGINAL-URL:http://bluewaterconventioncenter.com
X-WR-CALDESC:Events for Blue Water Convention Center
BEGIN:VTIMEZONE
TZID:UTC
BEGIN:STANDARD
TZOFFSETFROM:+0000
TZOFFSETTO:+0000
TZNAME:UTC
DTSTART:20240101T000000
END:STANDARD
END:VTIMEZONE
BEGIN:VEVENT
DTSTART;TZID=UTC:20240919T080000
DTEND;TZID=UTC:20240920T170000
DTSTAMP:20260419T131607
CREATED:20240726T111323Z
LAST-MODIFIED:20240726T111323Z
UID:2575-1726732800-1726851600@bluewaterconventioncenter.com
SUMMARY:MI Guardianship Conference
DESCRIPTION:…advocates that guardianship should only be used as a last resort\, and that all other alternatives be used whenever possible. \n…is governed by a board of directors who carry out its mission; This diverse group provides an unprecedented exchange of information and ideas to enable groups and individuals to provide the highest quality guardianship and other protective services. \n…provides education and training featuring topics of immediate concern to practitioners and is offered through presentation by expert speakers\, round table discussions\, debates and networking. These sessions bring together multiple disciplines of persons interested in upgrading their skills and knowledge at an affordable cost. MGA also distributes an instructional DVD on guardianship and conservatorship.
URL:http://bluewaterconventioncenter.com/event/mi-guardianship-conference/
LOCATION:Blue Water Convention Center\, 800 Harker St\, Port Huron\, MI\, 48049\, United States
ATTACH;FMTTYPE=image/png:http://bluewaterconventioncenter.com/wp-content/uploads/2024/07/MGA-logo2015-175.png
END:VEVENT
END:VCALENDAR