BEGIN:VCALENDAR
VERSION:2.0
PRODID:-//Blue Water Convention Center - ECPv5.14.2.1//NONSGML v1.0//EN
CALSCALE:GREGORIAN
METHOD:PUBLISH
X-WR-CALNAME:Blue Water Convention Center
X-ORIGINAL-URL:http://bluewaterconventioncenter.com
X-WR-CALDESC:Events for Blue Water Convention Center
BEGIN:VTIMEZONE
TZID:UTC
BEGIN:STANDARD
TZOFFSETFROM:+0000
TZOFFSETTO:+0000
TZNAME:UTC
DTSTART:20250101T000000
END:STANDARD
END:VTIMEZONE
BEGIN:VEVENT
DTSTART;TZID=UTC:20250425T110000
DTEND;TZID=UTC:20250425T170000
DTSTAMP:20260419T233648
CREATED:20250325T101056Z
LAST-MODIFIED:20250325T101056Z
UID:2734-1745578800-1745600400@bluewaterconventioncenter.com
SUMMARY:McLaren Years of Service Banquet
DESCRIPTION:Welcome to\nMcLaren Health Care\n\n\n\nAt McLaren Health Care\, we’re committed to bringing high-quality\, evidence-based care right to your community. With 13 hospitals\, a wide network of primary and specialty care physicians\, and numerous outpatient services\, McLaren makes it easy to find the care you need\, wherever you are in Michigan\, Indiana\, and Ohio.
URL:http://bluewaterconventioncenter.com/event/mclaren-years-of-service-banquet/
LOCATION:Blue Water Convention Center\, 800 Harker St\, Port Huron\, MI\, 48049\, United States
ATTACH;FMTTYPE=image/png:http://bluewaterconventioncenter.com/wp-content/uploads/2025/03/mclaren.png
END:VEVENT
END:VCALENDAR