BEGIN:VCALENDAR
VERSION:2.0
PRODID:-//Blue Water Convention Center - ECPv5.14.2.1//NONSGML v1.0//EN
CALSCALE:GREGORIAN
METHOD:PUBLISH
X-WR-CALNAME:Blue Water Convention Center
X-ORIGINAL-URL:http://bluewaterconventioncenter.com
X-WR-CALDESC:Events for Blue Water Convention Center
BEGIN:VTIMEZONE
TZID:UTC
BEGIN:STANDARD
TZOFFSETFROM:+0000
TZOFFSETTO:+0000
TZNAME:UTC
DTSTART:20250101T000000
END:STANDARD
END:VTIMEZONE
BEGIN:VEVENT
DTSTART;VALUE=DATE:20250328
DTEND;VALUE=DATE:20250331
DTSTAMP:20260423T200813
CREATED:20250325T140927Z
LAST-MODIFIED:20250325T140927Z
UID:2765-1743120000-1743379199@bluewaterconventioncenter.com
SUMMARY:Hot Tub & Swim Spa BLOWOUT
DESCRIPTION:FREE ADMISSION AND FREE PARKING!
URL:http://bluewaterconventioncenter.com/event/hot-tub-swim-spa-blowout/
LOCATION:Blue Water Convention Center\, 800 Harker St\, Port Huron\, MI\, 48049\, United States
ATTACH;FMTTYPE=image/jpeg:http://bluewaterconventioncenter.com/wp-content/uploads/2025/03/hot-tub-1.jpg
END:VEVENT
END:VCALENDAR