BEGIN:VCALENDAR
VERSION:2.0
PRODID:-//Blue Water Convention Center - ECPv5.14.2.1//NONSGML v1.0//EN
CALSCALE:GREGORIAN
METHOD:PUBLISH
X-WR-CALNAME:Blue Water Convention Center
X-ORIGINAL-URL:http://bluewaterconventioncenter.com
X-WR-CALDESC:Events for Blue Water Convention Center
BEGIN:VTIMEZONE
TZID:UTC
BEGIN:STANDARD
TZOFFSETFROM:+0000
TZOFFSETTO:+0000
TZNAME:UTC
DTSTART:20250101T000000
END:STANDARD
END:VTIMEZONE
BEGIN:VEVENT
DTSTART;TZID=UTC:20250424T173000
DTEND;TZID=UTC:20250424T193000
DTSTAMP:20260419T220214
CREATED:20250325T100743Z
LAST-MODIFIED:20250325T100743Z
UID:2732-1745515800-1745523000@bluewaterconventioncenter.com
SUMMARY:Hope Blooms Fundraiser
DESCRIPTION:Join us Thursday\, April 24th from 5:30pm-7:30pm for our annual dinner/fundraiser\nHOPE BLOOMS\nDoors open at 4:30pm\nJoin Us for the Hope Blooms Dinner & Fundraiser\nExperience an unforgettable evening of delicious food\, live entertainment\, and exciting raffles at the stunning Blue Water Convention Center\, nestled along the scenic St. Clair River in downtown Port Huron\, MI.\nHosted by Hunter Hospitality House\, this special event supports our mission to provide free lodging and abundant amenities for guests in need. Your participation helps cover our annual operating expenses and ensures we can continue serving families and caregivers with compassion and comfort.\nGet Your Tickets Today!\nPurchase your tickets below\, and we’ll mail them to you promptly.\nInterested in Sponsorship Opportunities?\nExplore ways to support this meaningful event by becoming a sponsor. Details can be found below.\n\n\n\n\n\nPURCHASE HOPE BLOOMS TICKETS HERE\n\n\n\n\n\n\nNumber of Tickets\n\n\n             1 Ticket $60.00 USD                        2 Tickets $120.00 USD                        3 Tickets $180.00 USD                        4 Tickets $240.00 USD                        5 Tickets $300.00 USD                        6 Tickets $360.00 USD                        7 Tickets $420.00 USD                        8 Tickets (1 TABLE) $420.00 USD                        10 Tickets (Limited TABLES Available) $540.00 USD           \n\n\n\n\n\n\n\n\n\n\n\nSPONSORSHIP OPPORTUNITIES\nPresenting Sponsor: $5\,000 Benefits include: • Name on Hope Blooms’ billboard • Space for your vertical banner at the event • 24 tickets (3 tables) to Hope Blooms • Name in a radio advertisement • Verbal recognition at the event • Name and/or logo on a large event sign • Sponsor Spotlight on Facebook • Name on the event program • Name on website and Facebook \nDiamond Sponsor:$2\,500 Benefits include: • 16 tickets (2 tables) to Hope Blooms • Space for your vertical banner at the event • Name in a radio advertisement • Verbal recognition at the event • Name and/or logo on a large sign at the event • Sponsor Spotlight on Facebook •  Name on event program • Name on website and Facebook \nPlatinum Sponsor:$1\,200 Benefits include: • 8 tickets (1 table) to Hope Blooms • Sponsor Spotlight on Facebook • Name and/or logo on a large sign at the event  • Name on event program • Name on website and Facebook \nGold Sponsor:$600 Benefits include: • 4 tickets to Hope Blooms  • Name on event program • Name on website and Facebook \nSilver Sponsor:$300 Benefits include: • 2 tickets to Hope Blooms • Name on event program • Name on website and Facebook \nBronze Sponsor:$150 Benefits include: • 1 ticket to Hope Blooms • Name on website and Facebook \nRaffle Sponsor:$50 Support Hope Blooms by sponsoring a raffle prize.  We will purchase large\, poplar\, local items with your donation\, and your name or business will be acknowledged on the raffle label.
URL:http://bluewaterconventioncenter.com/event/hope-blooms-fundraiser/
LOCATION:Blue Water Convention Center\, 800 Harker St\, Port Huron\, MI\, 48049\, United States
ATTACH;FMTTYPE=image/png:http://bluewaterconventioncenter.com/wp-content/uploads/2021/06/Hope-Blooms.png
END:VEVENT
END:VCALENDAR