BEGIN:VCALENDAR
VERSION:2.0
PRODID:-//Blue Water Convention Center - ECPv5.14.2.1//NONSGML v1.0//EN
CALSCALE:GREGORIAN
METHOD:PUBLISH
X-WR-CALNAME:Blue Water Convention Center
X-ORIGINAL-URL:http://bluewaterconventioncenter.com
X-WR-CALDESC:Events for Blue Water Convention Center
BEGIN:VTIMEZONE
TZID:UTC
BEGIN:STANDARD
TZOFFSETFROM:+0000
TZOFFSETTO:+0000
TZNAME:UTC
DTSTART:20250101T000000
END:STANDARD
END:VTIMEZONE
BEGIN:VEVENT
DTSTART;VALUE=DATE:20250329
DTEND;VALUE=DATE:20250331
DTSTAMP:20260423T213333
CREATED:20250205T182447Z
LAST-MODIFIED:20250205T182447Z
UID:2702-1743206400-1743379199@bluewaterconventioncenter.com
SUMMARY:Coast Guard Auxiliary Training
DESCRIPTION:Agency Overview\nEstablished by Congress in 1939 under title 14\, §§ 23 of the U.S. Code\, the United States Coast Guard Auxiliary is Semper Paratus(Always Ready). We invite you to explore our site and learn more about who we are and what we do to be “Semper Paratus.” \nThe Auxiliary operates in \n\nSafety and Security Patrols\nSearch and Rescue\nMass Casualty or Disasters\nPollution Response & Patrols\nHomeland Security\nRecreational Boating Safety\nCommercial Fishing and Vessel Exams\nPlatforms for Boarding Parties\nRecruit for all service in the Coast Guard\n\nIn addition to the above\, the U.S. Coast Guard Auxiliary operates in any mission as directed by the Commandant of the U.S. Coast Guard or Secretary of Homeland Security. \nOur Mission\n\nTo promote and improve Recreational Boating Safety\nTo provide trained crews and facilities to augment the Coast Guard and enhance safety and security of our ports\, waterways\, and coastal regions\nTo support Coast Guard operational\, administrative\, and logistical Requirements\n\nOrganization\nThe Auxiliary has units in all 50 states\, Puerto Rico\, the Virgin Islands\, American Samoa\, and Guam. \nUnder the direct authority of the U.S. Department of Homeland Security via the Commandant of the U.S. Coast Guard\, the Auxiliary’s internally operating levels are broken down into four organizational levels: Flotilla\, Division\, District and National.
URL:http://bluewaterconventioncenter.com/event/coast-guard-auxiliary-training/
LOCATION:Blue Water Convention Center\, 800 Harker St\, Port Huron\, MI\, 48049\, United States
ATTACH;FMTTYPE=image/png:http://bluewaterconventioncenter.com/wp-content/uploads/2025/02/download-4.png
END:VEVENT
END:VCALENDAR