BEGIN:VCALENDAR
VERSION:2.0
PRODID:-//Blue Water Convention Center - ECPv5.14.2.1//NONSGML v1.0//EN
CALSCALE:GREGORIAN
METHOD:PUBLISH
X-WR-CALNAME:Blue Water Convention Center
X-ORIGINAL-URL:http://bluewaterconventioncenter.com
X-WR-CALDESC:Events for Blue Water Convention Center
BEGIN:VTIMEZONE
TZID:UTC
BEGIN:STANDARD
TZOFFSETFROM:+0000
TZOFFSETTO:+0000
TZNAME:UTC
DTSTART:20250101T000000
END:STANDARD
END:VTIMEZONE
BEGIN:VEVENT
DTSTART;VALUE=DATE:20250302
DTEND;VALUE=DATE:20250303
DTSTAMP:20260423T152502
CREATED:20250123T180301Z
LAST-MODIFIED:20250205T164001Z
UID:2678-1740873600-1740959999@bluewaterconventioncenter.com
SUMMARY:BRIDAL CON 2025
DESCRIPTION:CALLING ALL BRIDES!!!!! \nYou do NOT want to miss this incredible event! \n 
URL:http://bluewaterconventioncenter.com/event/bridal-con-2025/
LOCATION:Blue Water Convention Center\, 800 Harker St\, Port Huron\, MI\, 48049\, United States
ATTACH;FMTTYPE=image/png:http://bluewaterconventioncenter.com/wp-content/uploads/2025/01/Bridal-CON-2025.png
END:VEVENT
END:VCALENDAR