BEGIN:VCALENDAR
VERSION:2.0
PRODID:-//Blue Water Convention Center - ECPv5.14.2.1//NONSGML v1.0//EN
CALSCALE:GREGORIAN
METHOD:PUBLISH
X-WR-CALNAME:Blue Water Convention Center
X-ORIGINAL-URL:http://bluewaterconventioncenter.com
X-WR-CALDESC:Events for Blue Water Convention Center
BEGIN:VTIMEZONE
TZID:UTC
BEGIN:STANDARD
TZOFFSETFROM:+0000
TZOFFSETTO:+0000
TZNAME:UTC
DTSTART:20250101T000000
END:STANDARD
END:VTIMEZONE
BEGIN:VEVENT
DTSTART;VALUE=DATE:20250307
DTEND;VALUE=DATE:20250308
DTSTAMP:20260423T165520
CREATED:20250205T172206Z
LAST-MODIFIED:20250205T172206Z
UID:2697-1741305600-1741391999@bluewaterconventioncenter.com
SUMMARY:Blue Water Little Black Dress
DESCRIPTION:We are announcing that March 7\, 2025\, will officially be the very last Betty Kearns Cancer Fund Little Black Dress event.\nWe are grateful for all the years of support this community has shown. If you have attended\, sponsored\, donated raffle items\, or bought raffle tickets\, we thank you! Without you we could not have helped the hundreds of families of St. Clair and Sanilac Counties\, making significant differences in their lives. Along with your help and dedication\, we have built a considerable fund and will continue with our mission of assisting those going through cancer in our community by easing financial burdens during treatment and allowing patients to focus on healing\, until the fund has been depleted. In addition to this\, we will be sponsoring local cancer support groups that we have found are greatly needed in our community. \nTHE EVENT IS SOLD OUT!!! \nSponsorships are now available online for the Dance Floor\, Photo Booth\, and Friend of LBD. \nThe event itself will still look the same and\, as always\, it will be the biggest dance party in town! We hope to see you there to celebrate the 19th and final year of Little Black Dress! \nLet’s make it one to remember!
URL:http://bluewaterconventioncenter.com/event/blue-water-little-black-dress/
LOCATION:Blue Water Convention Center\, 800 Harker St\, Port Huron\, MI\, 48049\, United States
ATTACH;FMTTYPE=image/png:http://bluewaterconventioncenter.com/wp-content/uploads/2024/02/Little-Black-Dress-Logo-2023.png
END:VEVENT
END:VCALENDAR