BEGIN:VCALENDAR
VERSION:2.0
PRODID:-//Blue Water Convention Center - ECPv5.14.2.1//NONSGML v1.0//EN
CALSCALE:GREGORIAN
METHOD:PUBLISH
X-WR-CALNAME:Blue Water Convention Center
X-ORIGINAL-URL:http://bluewaterconventioncenter.com
X-WR-CALDESC:Events for Blue Water Convention Center
BEGIN:VTIMEZONE
TZID:UTC
BEGIN:STANDARD
TZOFFSETFROM:+0000
TZOFFSETTO:+0000
TZNAME:UTC
DTSTART:20240101T000000
END:STANDARD
END:VTIMEZONE
BEGIN:VEVENT
DTSTART;VALUE=DATE:20240628
DTEND;VALUE=DATE:20240701
DTSTAMP:20260423T193854
CREATED:20240403T135722Z
LAST-MODIFIED:20240403T135722Z
UID:2529-1719532800-1719791999@bluewaterconventioncenter.com
SUMMARY:Black River Tattoo Convention
DESCRIPTION:
URL:http://bluewaterconventioncenter.com/event/black-river-tattoo-convention/
LOCATION:Blue Water Convention Center\, 800 Harker St\, Port Huron\, MI\, 48049\, United States
ATTACH;FMTTYPE=image/jpeg:http://bluewaterconventioncenter.com/wp-content/uploads/2024/04/download-1.jpg
END:VEVENT
END:VCALENDAR