BEGIN:VCALENDAR
VERSION:2.0
PRODID:-//Blue Water Convention Center - ECPv5.14.2.1//NONSGML v1.0//EN
CALSCALE:GREGORIAN
METHOD:PUBLISH
X-WR-CALNAME:Blue Water Convention Center
X-ORIGINAL-URL:http://bluewaterconventioncenter.com
X-WR-CALDESC:Events for Blue Water Convention Center
BEGIN:VTIMEZONE
TZID:UTC
BEGIN:STANDARD
TZOFFSETFROM:+0000
TZOFFSETTO:+0000
TZNAME:UTC
DTSTART:20240101T000000
END:STANDARD
END:VTIMEZONE
BEGIN:VEVENT
DTSTART;VALUE=DATE:20240727
DTEND;VALUE=DATE:20240728
DTSTAMP:20260423T154201
CREATED:20240630T154920Z
LAST-MODIFIED:20240630T154920Z
UID:2561-1722038400-1722124799@bluewaterconventioncenter.com
SUMMARY:50th Wedding Anniversary Party
DESCRIPTION:This is a private event.
URL:http://bluewaterconventioncenter.com/event/50th-wedding-anniversary-party/
LOCATION:Blue Water Convention Center\, 800 Harker St\, Port Huron\, MI\, 48049\, United States
ATTACH;FMTTYPE=image/webp:http://bluewaterconventioncenter.com/wp-content/uploads/2024/06/50th.webp
END:VEVENT
END:VCALENDAR